﻿BEGIN:VCALENDAR
VERSION:2.0
PRODID:-//Dr. Fernando Davino - ECPv5.2.0//NONSGML v1.0//EN
CALSCALE:GREGORIAN
METHOD:PUBLISH
X-WR-CALNAME:Dr. Fernando Davino
X-ORIGINAL-URL:http://fernandodavino.com.br
X-WR-CALDESC:Eventos para Dr. Fernando Davino
BEGIN:VTIMEZONE
TZID:America/Sao_Paulo
BEGIN:STANDARD
TZOFFSETFROM:-0200
TZOFFSETTO:-0300
TZNAME:BRT
DTSTART:20180218T020000
END:STANDARD
BEGIN:DAYLIGHT
TZOFFSETFROM:-0300
TZOFFSETTO:-0200
TZNAME:BRST
DTSTART:20181021T030000
END:DAYLIGHT
END:VTIMEZONE
BEGIN:VEVENT
DTSTART;VALUE=DATE:20180901
DTEND;VALUE=DATE:20180922
DTSTAMP:20260419T122143
CREATED:20181018T142557Z
LAST-MODIFIED:20181018T143333Z
UID:737-1535760000-1537574399@fernandodavino.com.br
SUMMARY:Viagem a China - 2018
DESCRIPTION:Viagem a China em setembro de 2018… \nDa minha parte são 10 anos de vivência\, estudo e prática da Medicina Tradicional Chinesa nas maiores instituições de MTC da China. Desde 2011 lecionando\, traduzindo e interpretando para estudantes brasileiros o conhecimento da milenar sabedoria da Medicina Tradicional Chinesa. \nVejam a proposta da Brasil-Oriente. \nOBJETIVO: \nDIFERENCIAIS: \nPORQUE VIAJAR CONOSCO: \n* Acesse: http://institutolongtao.com.br/vamos-a-china \n* Para maiores informações entre em contato com a Brasil-Oriente:\nTel: (19) 9811-9180\nE-mail: pauloamerico@naturalmed.com.br
URL:http://fernandodavino.com.br/evento/viagem-a-china-2018/
CATEGORIES:Acupuntura,Medicina Tradicional Chinesa,Viagem a China
ORGANIZER;CN="Brasil-Oriente":MAILTO:pauloamerico@naturalmed.com.br
END:VEVENT
END:VCALENDAR