﻿BEGIN:VCALENDAR
VERSION:2.0
PRODID:-//Dr. Fernando Davino - ECPv5.2.0//NONSGML v1.0//EN
CALSCALE:GREGORIAN
METHOD:PUBLISH
X-WR-CALNAME:Dr. Fernando Davino
X-ORIGINAL-URL:http://fernandodavino.com.br
X-WR-CALDESC:Eventos para Dr. Fernando Davino
BEGIN:VTIMEZONE
TZID:America/Sao_Paulo
BEGIN:STANDARD
TZOFFSETFROM:-0200
TZOFFSETTO:-0300
TZNAME:BRT
DTSTART:20180218T020000
END:STANDARD
BEGIN:DAYLIGHT
TZOFFSETFROM:-0300
TZOFFSETTO:-0200
TZNAME:BRST
DTSTART:20181021T030000
END:DAYLIGHT
END:VTIMEZONE
BEGIN:VEVENT
DTSTART;TZID=America/Sao_Paulo:20181124T090000
DTEND;TZID=America/Sao_Paulo:20181125T170000
DTSTAMP:20260419T122507
CREATED:20181017T144537Z
LAST-MODIFIED:20181017T144927Z
UID:723-1543050000-1543165200@fernandodavino.com.br
SUMMARY:Seminário de Moxabustão
DESCRIPTION:
URL:http://fernandodavino.com.br/evento/seminario-de-moxabustao/
LOCATION:Escola Paulista de Medicina\, Rua Estado de Israel\, 899\, Vila Clementino\, São Paulo\, SP\, 04022-002\, Brasil
CATEGORIES:Moxabustão
END:VEVENT
END:VCALENDAR