﻿BEGIN:VCALENDAR
VERSION:2.0
PRODID:-//Dr. Fernando Davino - ECPv5.2.0//NONSGML v1.0//EN
CALSCALE:GREGORIAN
METHOD:PUBLISH
X-WR-CALNAME:Dr. Fernando Davino
X-ORIGINAL-URL:http://fernandodavino.com.br
X-WR-CALDESC:Eventos para Dr. Fernando Davino
BEGIN:VTIMEZONE
TZID:UTC
BEGIN:STANDARD
TZOFFSETFROM:+0000
TZOFFSETTO:+0000
TZNAME:UTC
DTSTART:20180101T000000
END:STANDARD
END:VTIMEZONE
BEGIN:VEVENT
DTSTART;TZID=UTC:20180707T090000
DTEND;TZID=UTC:20180708T170000
DTSTAMP:20260419T122006
CREATED:20180528T185941Z
LAST-MODIFIED:20180711T124432Z
UID:320-1530954000-1531069200@fernandodavino.com.br
SUMMARY:Seminário de Moxabustão
DESCRIPTION:
URL:http://fernandodavino.com.br/evento/moxabustao/
LOCATION:Escola Paulista de Medicina\, Rua Estado de Israel\, 899\, Vila Clementino\, São Paulo\, SP\, 04022-002\, Brasil
CATEGORIES:Moxabustão
END:VEVENT
END:VCALENDAR