﻿BEGIN:VCALENDAR
VERSION:2.0
PRODID:-//Dr. Fernando Davino - ECPv5.2.0//NONSGML v1.0//EN
CALSCALE:GREGORIAN
METHOD:PUBLISH
X-WR-CALNAME:Dr. Fernando Davino
X-ORIGINAL-URL:http://fernandodavino.com.br
X-WR-CALDESC:Eventos para Dr. Fernando Davino
BEGIN:VTIMEZONE
TZID:America/Sao_Paulo
BEGIN:STANDARD
TZOFFSETFROM:-0200
TZOFFSETTO:-0300
TZNAME:BRT
DTSTART:20180218T020000
END:STANDARD
BEGIN:DAYLIGHT
TZOFFSETFROM:-0300
TZOFFSETTO:-0200
TZNAME:BRST
DTSTART:20181021T030000
END:DAYLIGHT
END:VTIMEZONE
BEGIN:VEVENT
DTSTART;TZID=America/Sao_Paulo:20180818T083000
DTEND;TZID=America/Sao_Paulo:20180819T173000
DTSTAMP:20260419T122205
CREATED:20181018T135937Z
LAST-MODIFIED:20181018T135937Z
UID:734-1534581000-1534699800@fernandodavino.com.br
SUMMARY:Curso de inspeção da Língua
DESCRIPTION:A inspeção da língua é um dos principais recursos utilizados na Medicina Tradicional Chinesa para diagnóstico e avaliação de prognóstico de doenças. Na Medicina Ocidental não há recurso semiológico semelhante. \nA observação das características da inspeção da língua poderá auxiliar os profissionais da área de saúde\, com formação ocidental na avaliação de doentes quanto ao prognóstico inicial\, na escolha do método terapêutico e na avaliação de resultados. \nOBJETIVO: Treinamento para a prática da inspeção da língua segundo a técnica da Medicina Tradicional Chinesa\, adaptada para profissionais da área de saúde com formação em Medicina Ocidental. \nPÚBLICO ALVO: Profissionais de saúde\, medicina chinesa\, terapeutas orientais\, acupunturistas e terapeutas complementares. \nCOORDENAÇÃO GERAL: Acary Souza Bule Oliveira. MD.PhD. Responsável pelo Setor de Investigação de Doenças Neuromusculares (UNIFESP) \nCONVIDADO ESPECIAL: Fernando Davino Alves MD. MSc. Beijing University of Chinese Medicine (Beijing University of Chinese Medicine). China Academy of Chinese Medicine Sciences (CACMS). \nCOORDENAÇÃO ADMINISTRATIVA: Márcia Cristina Silveira \nAPOIO: Associação Verde Vida Saúde \n 
URL:http://fernandodavino.com.br/evento/curso-de-inspecao-da-lingua/
LOCATION:Escola Paulista de Medicina\, Rua Estado de Israel\, 899\, Vila Clementino\, São Paulo\, SP\, 04022-002\, Brasil
CATEGORIES:Acupuntura,Medicina Tradicional Chinesa
END:VEVENT
END:VCALENDAR